
BEGIN:VCALENDAR
VERSION:2.0
PRODID:-//St. Stephen&#039;s Episcopal Church of Mullica Hill - ECPv6.15.20//NONSGML v1.0//EN
CALSCALE:GREGORIAN
METHOD:PUBLISH
X-ORIGINAL-URL:https://ststephensofmullicahill.com
X-WR-CALDESC:Events for St. Stephen&#039;s Episcopal Church of Mullica Hill
REFRESH-INTERVAL;VALUE=DURATION:PT1H
X-Robots-Tag:noindex
X-PUBLISHED-TTL:PT1H
BEGIN:VTIMEZONE
TZID:America/New_York
BEGIN:DAYLIGHT
TZOFFSETFROM:-0500
TZOFFSETTO:-0400
TZNAME:EDT
DTSTART:20250309T070000
END:DAYLIGHT
BEGIN:STANDARD
TZOFFSETFROM:-0400
TZOFFSETTO:-0500
TZNAME:EST
DTSTART:20251102T060000
END:STANDARD
BEGIN:DAYLIGHT
TZOFFSETFROM:-0500
TZOFFSETTO:-0400
TZNAME:EDT
DTSTART:20260308T070000
END:DAYLIGHT
BEGIN:STANDARD
TZOFFSETFROM:-0400
TZOFFSETTO:-0500
TZNAME:EST
DTSTART:20261101T060000
END:STANDARD
BEGIN:DAYLIGHT
TZOFFSETFROM:-0500
TZOFFSETTO:-0400
TZNAME:EDT
DTSTART:20270314T070000
END:DAYLIGHT
BEGIN:STANDARD
TZOFFSETFROM:-0400
TZOFFSETTO:-0500
TZNAME:EST
DTSTART:20271107T060000
END:STANDARD
BEGIN:DAYLIGHT
TZOFFSETFROM:-0500
TZOFFSETTO:-0400
TZNAME:EDT
DTSTART:20280312T070000
END:DAYLIGHT
BEGIN:STANDARD
TZOFFSETFROM:-0400
TZOFFSETTO:-0500
TZNAME:EST
DTSTART:20281105T060000
END:STANDARD
END:VTIMEZONE
BEGIN:VEVENT
DTSTART;TZID=America/New_York:20260426T080000
DTEND;TZID=America/New_York:20260426T090000
DTSTAMP:20260419T122229
CREATED:20250405T124559Z
LAST-MODIFIED:20250405T124559Z
UID:9770-1777190400-1777194000@ststephensofmullicahill.com
SUMMARY:Contemplative Service
DESCRIPTION:Contemplative Service–no music
URL:https://ststephensofmullicahill.com/event/contemplative-service-2/2026-04-26/
LOCATION:St. Stephen’s of Mullica Hill\, St Stepehen's Episcopal Church of Mullica Hill\, Mullica Hill\, NJ\, 08062\, United States
END:VEVENT
BEGIN:VEVENT
DTSTART;TZID=America/New_York:20260510T080000
DTEND;TZID=America/New_York:20260510T090000
DTSTAMP:20260419T122229
CREATED:20250405T124559Z
LAST-MODIFIED:20250405T124559Z
UID:9771-1778400000-1778403600@ststephensofmullicahill.com
SUMMARY:Contemplative Service
DESCRIPTION:Contemplative Service–no music
URL:https://ststephensofmullicahill.com/event/contemplative-service-2/2026-05-10/
LOCATION:St. Stephen’s of Mullica Hill\, St Stepehen's Episcopal Church of Mullica Hill\, Mullica Hill\, NJ\, 08062\, United States
END:VEVENT
BEGIN:VEVENT
DTSTART;TZID=America/New_York:20260517T080000
DTEND;TZID=America/New_York:20260517T090000
DTSTAMP:20260419T122229
CREATED:20250405T124559Z
LAST-MODIFIED:20250405T124559Z
UID:9772-1779004800-1779008400@ststephensofmullicahill.com
SUMMARY:Contemplative Service
DESCRIPTION:Contemplative Service–no music
URL:https://ststephensofmullicahill.com/event/contemplative-service-2/2026-05-17/
LOCATION:St. Stephen’s of Mullica Hill\, St Stepehen's Episcopal Church of Mullica Hill\, Mullica Hill\, NJ\, 08062\, United States
END:VEVENT
BEGIN:VEVENT
DTSTART;TZID=America/New_York:20260524T080000
DTEND;TZID=America/New_York:20260524T090000
DTSTAMP:20260419T122229
CREATED:20250405T124559Z
LAST-MODIFIED:20250405T124559Z
UID:9773-1779609600-1779613200@ststephensofmullicahill.com
SUMMARY:Contemplative Service
DESCRIPTION:Contemplative Service–no music
URL:https://ststephensofmullicahill.com/event/contemplative-service-2/2026-05-24/
LOCATION:St. Stephen’s of Mullica Hill\, St Stepehen's Episcopal Church of Mullica Hill\, Mullica Hill\, NJ\, 08062\, United States
END:VEVENT
BEGIN:VEVENT
DTSTART;TZID=America/New_York:20260531T080000
DTEND;TZID=America/New_York:20260531T090000
DTSTAMP:20260419T122229
CREATED:20250405T124559Z
LAST-MODIFIED:20250405T124559Z
UID:9774-1780214400-1780218000@ststephensofmullicahill.com
SUMMARY:Contemplative Service
DESCRIPTION:Contemplative Service–no music
URL:https://ststephensofmullicahill.com/event/contemplative-service-2/2026-05-31/
LOCATION:St. Stephen’s of Mullica Hill\, St Stepehen's Episcopal Church of Mullica Hill\, Mullica Hill\, NJ\, 08062\, United States
END:VEVENT
BEGIN:VEVENT
DTSTART;TZID=America/New_York:20260614T080000
DTEND;TZID=America/New_York:20260614T090000
DTSTAMP:20260419T122229
CREATED:20250405T124559Z
LAST-MODIFIED:20250405T124559Z
UID:9775-1781424000-1781427600@ststephensofmullicahill.com
SUMMARY:Contemplative Service
DESCRIPTION:Contemplative Service–no music
URL:https://ststephensofmullicahill.com/event/contemplative-service-2/2026-06-14/
LOCATION:St. Stephen’s of Mullica Hill\, St Stepehen's Episcopal Church of Mullica Hill\, Mullica Hill\, NJ\, 08062\, United States
END:VEVENT
BEGIN:VEVENT
DTSTART;TZID=America/New_York:20260621T080000
DTEND;TZID=America/New_York:20260621T090000
DTSTAMP:20260419T122229
CREATED:20250405T124559Z
LAST-MODIFIED:20250405T124559Z
UID:9776-1782028800-1782032400@ststephensofmullicahill.com
SUMMARY:Contemplative Service
DESCRIPTION:Contemplative Service–no music
URL:https://ststephensofmullicahill.com/event/contemplative-service-2/2026-06-21/
LOCATION:St. Stephen’s of Mullica Hill\, St Stepehen's Episcopal Church of Mullica Hill\, Mullica Hill\, NJ\, 08062\, United States
END:VEVENT
BEGIN:VEVENT
DTSTART;TZID=America/New_York:20260628T080000
DTEND;TZID=America/New_York:20260628T090000
DTSTAMP:20260419T122229
CREATED:20250405T124559Z
LAST-MODIFIED:20250405T124559Z
UID:9777-1782633600-1782637200@ststephensofmullicahill.com
SUMMARY:Contemplative Service
DESCRIPTION:Contemplative Service–no music
URL:https://ststephensofmullicahill.com/event/contemplative-service-2/2026-06-28/
LOCATION:St. Stephen’s of Mullica Hill\, St Stepehen's Episcopal Church of Mullica Hill\, Mullica Hill\, NJ\, 08062\, United States
END:VEVENT
BEGIN:VEVENT
DTSTART;TZID=America/New_York:20260712T080000
DTEND;TZID=America/New_York:20260712T090000
DTSTAMP:20260419T122229
CREATED:20250405T124559Z
LAST-MODIFIED:20250405T124559Z
UID:9778-1783843200-1783846800@ststephensofmullicahill.com
SUMMARY:Contemplative Service
DESCRIPTION:Contemplative Service–no music
URL:https://ststephensofmullicahill.com/event/contemplative-service-2/2026-07-12/
LOCATION:St. Stephen’s of Mullica Hill\, St Stepehen's Episcopal Church of Mullica Hill\, Mullica Hill\, NJ\, 08062\, United States
END:VEVENT
BEGIN:VEVENT
DTSTART;TZID=America/New_York:20260719T080000
DTEND;TZID=America/New_York:20260719T090000
DTSTAMP:20260419T122229
CREATED:20250405T124559Z
LAST-MODIFIED:20250405T124559Z
UID:9779-1784448000-1784451600@ststephensofmullicahill.com
SUMMARY:Contemplative Service
DESCRIPTION:Contemplative Service–no music
URL:https://ststephensofmullicahill.com/event/contemplative-service-2/2026-07-19/
LOCATION:St. Stephen’s of Mullica Hill\, St Stepehen's Episcopal Church of Mullica Hill\, Mullica Hill\, NJ\, 08062\, United States
END:VEVENT
BEGIN:VEVENT
DTSTART;TZID=America/New_York:20260726T080000
DTEND;TZID=America/New_York:20260726T090000
DTSTAMP:20260419T122229
CREATED:20250405T124559Z
LAST-MODIFIED:20250405T124559Z
UID:9780-1785052800-1785056400@ststephensofmullicahill.com
SUMMARY:Contemplative Service
DESCRIPTION:Contemplative Service–no music
URL:https://ststephensofmullicahill.com/event/contemplative-service-2/2026-07-26/
LOCATION:St. Stephen’s of Mullica Hill\, St Stepehen's Episcopal Church of Mullica Hill\, Mullica Hill\, NJ\, 08062\, United States
END:VEVENT
BEGIN:VEVENT
DTSTART;TZID=America/New_York:20260809T080000
DTEND;TZID=America/New_York:20260809T090000
DTSTAMP:20260419T122229
CREATED:20250405T124559Z
LAST-MODIFIED:20250405T124559Z
UID:9781-1786262400-1786266000@ststephensofmullicahill.com
SUMMARY:Contemplative Service
DESCRIPTION:Contemplative Service–no music
URL:https://ststephensofmullicahill.com/event/contemplative-service-2/2026-08-09/
LOCATION:St. Stephen’s of Mullica Hill\, St Stepehen's Episcopal Church of Mullica Hill\, Mullica Hill\, NJ\, 08062\, United States
END:VEVENT
BEGIN:VEVENT
DTSTART;TZID=America/New_York:20260816T080000
DTEND;TZID=America/New_York:20260816T090000
DTSTAMP:20260419T122229
CREATED:20250405T124559Z
LAST-MODIFIED:20250405T124559Z
UID:9782-1786867200-1786870800@ststephensofmullicahill.com
SUMMARY:Contemplative Service
DESCRIPTION:Contemplative Service–no music
URL:https://ststephensofmullicahill.com/event/contemplative-service-2/2026-08-16/
LOCATION:St. Stephen’s of Mullica Hill\, St Stepehen's Episcopal Church of Mullica Hill\, Mullica Hill\, NJ\, 08062\, United States
END:VEVENT
BEGIN:VEVENT
DTSTART;TZID=America/New_York:20260823T080000
DTEND;TZID=America/New_York:20260823T090000
DTSTAMP:20260419T122229
CREATED:20250405T124559Z
LAST-MODIFIED:20250405T124559Z
UID:9783-1787472000-1787475600@ststephensofmullicahill.com
SUMMARY:Contemplative Service
DESCRIPTION:Contemplative Service–no music
URL:https://ststephensofmullicahill.com/event/contemplative-service-2/2026-08-23/
LOCATION:St. Stephen’s of Mullica Hill\, St Stepehen's Episcopal Church of Mullica Hill\, Mullica Hill\, NJ\, 08062\, United States
END:VEVENT
BEGIN:VEVENT
DTSTART;TZID=America/New_York:20260830T080000
DTEND;TZID=America/New_York:20260830T090000
DTSTAMP:20260419T122229
CREATED:20250405T124559Z
LAST-MODIFIED:20250405T124559Z
UID:9784-1788076800-1788080400@ststephensofmullicahill.com
SUMMARY:Contemplative Service
DESCRIPTION:Contemplative Service–no music
URL:https://ststephensofmullicahill.com/event/contemplative-service-2/2026-08-30/
LOCATION:St. Stephen’s of Mullica Hill\, St Stepehen's Episcopal Church of Mullica Hill\, Mullica Hill\, NJ\, 08062\, United States
END:VEVENT
BEGIN:VEVENT
DTSTART;TZID=America/New_York:20260913T080000
DTEND;TZID=America/New_York:20260913T090000
DTSTAMP:20260419T122229
CREATED:20250405T124559Z
LAST-MODIFIED:20250405T124559Z
UID:9785-1789286400-1789290000@ststephensofmullicahill.com
SUMMARY:Contemplative Service
DESCRIPTION:Contemplative Service–no music
URL:https://ststephensofmullicahill.com/event/contemplative-service-2/2026-09-13/
LOCATION:St. Stephen’s of Mullica Hill\, St Stepehen's Episcopal Church of Mullica Hill\, Mullica Hill\, NJ\, 08062\, United States
END:VEVENT
BEGIN:VEVENT
DTSTART;TZID=America/New_York:20260920T080000
DTEND;TZID=America/New_York:20260920T090000
DTSTAMP:20260419T122229
CREATED:20250405T124559Z
LAST-MODIFIED:20250405T124559Z
UID:9786-1789891200-1789894800@ststephensofmullicahill.com
SUMMARY:Contemplative Service
DESCRIPTION:Contemplative Service–no music
URL:https://ststephensofmullicahill.com/event/contemplative-service-2/2026-09-20/
LOCATION:St. Stephen’s of Mullica Hill\, St Stepehen's Episcopal Church of Mullica Hill\, Mullica Hill\, NJ\, 08062\, United States
END:VEVENT
BEGIN:VEVENT
DTSTART;TZID=America/New_York:20260927T080000
DTEND;TZID=America/New_York:20260927T090000
DTSTAMP:20260419T122229
CREATED:20250405T124559Z
LAST-MODIFIED:20250405T124559Z
UID:9787-1790496000-1790499600@ststephensofmullicahill.com
SUMMARY:Contemplative Service
DESCRIPTION:Contemplative Service–no music
URL:https://ststephensofmullicahill.com/event/contemplative-service-2/2026-09-27/
LOCATION:St. Stephen’s of Mullica Hill\, St Stepehen's Episcopal Church of Mullica Hill\, Mullica Hill\, NJ\, 08062\, United States
END:VEVENT
BEGIN:VEVENT
DTSTART;TZID=America/New_York:20261011T080000
DTEND;TZID=America/New_York:20261011T090000
DTSTAMP:20260419T122229
CREATED:20250405T124559Z
LAST-MODIFIED:20250405T124559Z
UID:9788-1791705600-1791709200@ststephensofmullicahill.com
SUMMARY:Contemplative Service
DESCRIPTION:Contemplative Service–no music
URL:https://ststephensofmullicahill.com/event/contemplative-service-2/2026-10-11/
LOCATION:St. Stephen’s of Mullica Hill\, St Stepehen's Episcopal Church of Mullica Hill\, Mullica Hill\, NJ\, 08062\, United States
END:VEVENT
BEGIN:VEVENT
DTSTART;TZID=America/New_York:20261018T080000
DTEND;TZID=America/New_York:20261018T090000
DTSTAMP:20260419T122229
CREATED:20250405T124559Z
LAST-MODIFIED:20250405T124559Z
UID:9789-1792310400-1792314000@ststephensofmullicahill.com
SUMMARY:Contemplative Service
DESCRIPTION:Contemplative Service–no music
URL:https://ststephensofmullicahill.com/event/contemplative-service-2/2026-10-18/
LOCATION:St. Stephen’s of Mullica Hill\, St Stepehen's Episcopal Church of Mullica Hill\, Mullica Hill\, NJ\, 08062\, United States
END:VEVENT
BEGIN:VEVENT
DTSTART;TZID=America/New_York:20261025T080000
DTEND;TZID=America/New_York:20261025T090000
DTSTAMP:20260419T122229
CREATED:20250405T124559Z
LAST-MODIFIED:20250405T124559Z
UID:9790-1792915200-1792918800@ststephensofmullicahill.com
SUMMARY:Contemplative Service
DESCRIPTION:Contemplative Service–no music
URL:https://ststephensofmullicahill.com/event/contemplative-service-2/2026-10-25/
LOCATION:St. Stephen’s of Mullica Hill\, St Stepehen's Episcopal Church of Mullica Hill\, Mullica Hill\, NJ\, 08062\, United States
END:VEVENT
BEGIN:VEVENT
DTSTART;TZID=America/New_York:20261108T080000
DTEND;TZID=America/New_York:20261108T090000
DTSTAMP:20260419T122229
CREATED:20250405T124559Z
LAST-MODIFIED:20250405T124559Z
UID:9791-1794124800-1794128400@ststephensofmullicahill.com
SUMMARY:Contemplative Service
DESCRIPTION:Contemplative Service–no music
URL:https://ststephensofmullicahill.com/event/contemplative-service-2/2026-11-08/
LOCATION:St. Stephen’s of Mullica Hill\, St Stepehen's Episcopal Church of Mullica Hill\, Mullica Hill\, NJ\, 08062\, United States
END:VEVENT
BEGIN:VEVENT
DTSTART;TZID=America/New_York:20261115T080000
DTEND;TZID=America/New_York:20261115T090000
DTSTAMP:20260419T122229
CREATED:20250405T124559Z
LAST-MODIFIED:20250405T124559Z
UID:9792-1794729600-1794733200@ststephensofmullicahill.com
SUMMARY:Contemplative Service
DESCRIPTION:Contemplative Service–no music
URL:https://ststephensofmullicahill.com/event/contemplative-service-2/2026-11-15/
LOCATION:St. Stephen’s of Mullica Hill\, St Stepehen's Episcopal Church of Mullica Hill\, Mullica Hill\, NJ\, 08062\, United States
END:VEVENT
BEGIN:VEVENT
DTSTART;TZID=America/New_York:20261122T080000
DTEND;TZID=America/New_York:20261122T090000
DTSTAMP:20260419T122229
CREATED:20250405T124559Z
LAST-MODIFIED:20250405T124559Z
UID:9793-1795334400-1795338000@ststephensofmullicahill.com
SUMMARY:Contemplative Service
DESCRIPTION:Contemplative Service–no music
URL:https://ststephensofmullicahill.com/event/contemplative-service-2/2026-11-22/
LOCATION:St. Stephen’s of Mullica Hill\, St Stepehen's Episcopal Church of Mullica Hill\, Mullica Hill\, NJ\, 08062\, United States
END:VEVENT
BEGIN:VEVENT
DTSTART;TZID=America/New_York:20261129T080000
DTEND;TZID=America/New_York:20261129T090000
DTSTAMP:20260419T122229
CREATED:20250405T124559Z
LAST-MODIFIED:20250405T124559Z
UID:9794-1795939200-1795942800@ststephensofmullicahill.com
SUMMARY:Contemplative Service
DESCRIPTION:Contemplative Service–no music
URL:https://ststephensofmullicahill.com/event/contemplative-service-2/2026-11-29/
LOCATION:St. Stephen’s of Mullica Hill\, St Stepehen's Episcopal Church of Mullica Hill\, Mullica Hill\, NJ\, 08062\, United States
END:VEVENT
BEGIN:VEVENT
DTSTART;TZID=America/New_York:20261213T080000
DTEND;TZID=America/New_York:20261213T090000
DTSTAMP:20260419T122229
CREATED:20250405T124559Z
LAST-MODIFIED:20250405T124559Z
UID:9795-1797148800-1797152400@ststephensofmullicahill.com
SUMMARY:Contemplative Service
DESCRIPTION:Contemplative Service–no music
URL:https://ststephensofmullicahill.com/event/contemplative-service-2/2026-12-13/
LOCATION:St. Stephen’s of Mullica Hill\, St Stepehen's Episcopal Church of Mullica Hill\, Mullica Hill\, NJ\, 08062\, United States
END:VEVENT
BEGIN:VEVENT
DTSTART;TZID=America/New_York:20261220T080000
DTEND;TZID=America/New_York:20261220T090000
DTSTAMP:20260419T122229
CREATED:20250405T124559Z
LAST-MODIFIED:20250405T124559Z
UID:9796-1797753600-1797757200@ststephensofmullicahill.com
SUMMARY:Contemplative Service
DESCRIPTION:Contemplative Service–no music
URL:https://ststephensofmullicahill.com/event/contemplative-service-2/2026-12-20/
LOCATION:St. Stephen’s of Mullica Hill\, St Stepehen's Episcopal Church of Mullica Hill\, Mullica Hill\, NJ\, 08062\, United States
END:VEVENT
BEGIN:VEVENT
DTSTART;TZID=America/New_York:20261227T080000
DTEND;TZID=America/New_York:20261227T090000
DTSTAMP:20260419T122229
CREATED:20250405T124559Z
LAST-MODIFIED:20250405T124559Z
UID:9797-1798358400-1798362000@ststephensofmullicahill.com
SUMMARY:Contemplative Service
DESCRIPTION:Contemplative Service–no music
URL:https://ststephensofmullicahill.com/event/contemplative-service-2/2026-12-27/
LOCATION:St. Stephen’s of Mullica Hill\, St Stepehen's Episcopal Church of Mullica Hill\, Mullica Hill\, NJ\, 08062\, United States
END:VEVENT
BEGIN:VEVENT
DTSTART;TZID=America/New_York:20270110T080000
DTEND;TZID=America/New_York:20270110T090000
DTSTAMP:20260419T122229
CREATED:20250405T124559Z
LAST-MODIFIED:20250405T124559Z
UID:9798-1799568000-1799571600@ststephensofmullicahill.com
SUMMARY:Contemplative Service
DESCRIPTION:Contemplative Service–no music
URL:https://ststephensofmullicahill.com/event/contemplative-service-2/2027-01-10/
LOCATION:St. Stephen’s of Mullica Hill\, St Stepehen's Episcopal Church of Mullica Hill\, Mullica Hill\, NJ\, 08062\, United States
END:VEVENT
BEGIN:VEVENT
DTSTART;TZID=America/New_York:20270117T080000
DTEND;TZID=America/New_York:20270117T090000
DTSTAMP:20260419T122229
CREATED:20250405T124559Z
LAST-MODIFIED:20250405T124559Z
UID:9799-1800172800-1800176400@ststephensofmullicahill.com
SUMMARY:Contemplative Service
DESCRIPTION:Contemplative Service–no music
URL:https://ststephensofmullicahill.com/event/contemplative-service-2/2027-01-17/
LOCATION:St. Stephen’s of Mullica Hill\, St Stepehen's Episcopal Church of Mullica Hill\, Mullica Hill\, NJ\, 08062\, United States
END:VEVENT
END:VCALENDAR